BEGIN:VCALENDAR
VERSION:2.0
PRODID:-//Willow Place - ECPv6.15.20//NONSGML v1.0//EN
CALSCALE:GREGORIAN
METHOD:PUBLISH
X-ORIGINAL-URL:https://willowplaceshelter.ca
X-WR-CALDESC:Events for Willow Place
REFRESH-INTERVAL;VALUE=DURATION:PT1H
X-Robots-Tag:noindex
X-PUBLISHED-TTL:PT1H
BEGIN:VTIMEZONE
TZID:America/Phoenix
BEGIN:STANDARD
TZOFFSETFROM:-0700
TZOFFSETTO:-0700
TZNAME:MST
DTSTART:20240101T000000
END:STANDARD
END:VTIMEZONE
BEGIN:VEVENT
DTSTART;TZID=America/Phoenix:20251205T070000
DTEND;TZID=America/Phoenix:20251205T170000
DTSTAMP:20260422T184532
CREATED:20251103T190304Z
LAST-MODIFIED:20251103T190304Z
UID:3565-1764918000-1764954000@willowplaceshelter.ca
SUMMARY:6th Annual Hockey Helps the Homeless Fundraiser
DESCRIPTION:https://willowplaceshelter.ca/wp-content/uploads/2025/11/HHTH-graphic-2025-V2.mp4
URL:https://willowplaceshelter.ca/event/6th-annual-hockey-helps-the-homeless-fundraiser/
LOCATION:Seven Oaks Arena\, 745 Kingsbury Avenue\, Winnipeg\, Manitoba\, R2V 3H9\, Canada
CATEGORIES:Fundraising,special occasion
END:VEVENT
END:VCALENDAR