BEGIN:VCALENDAR
VERSION:2.0
PRODID:-//Willow Place - ECPv6.15.20//NONSGML v1.0//EN
CALSCALE:GREGORIAN
METHOD:PUBLISH
X-ORIGINAL-URL:https://willowplaceshelter.ca
X-WR-CALDESC:Events for Willow Place
REFRESH-INTERVAL;VALUE=DURATION:PT1H
X-Robots-Tag:noindex
X-PUBLISHED-TTL:PT1H
BEGIN:VTIMEZONE
TZID:America/Phoenix
BEGIN:STANDARD
TZOFFSETFROM:-0700
TZOFFSETTO:-0700
TZNAME:MST
DTSTART:20240101T000000
END:STANDARD
END:VTIMEZONE
BEGIN:VEVENT
DTSTART;VALUE=DATE:20251101
DTEND;VALUE=DATE:20251201
DTSTAMP:20260422T201655
CREATED:20251105T202134Z
LAST-MODIFIED:20251105T202624Z
UID:3600-1761955200-1764547199@willowplaceshelter.ca
SUMMARY:Annual Power of PJs Campaign
DESCRIPTION:Every November (Domestic Violence Awareness Month)\, Willow Place collects new pajamas for women and children in our violence prevention shelter program. Our goal is to collect 250 pairs of PJs\, representing the numbers we will serve from November to January.  To donate\, call 204-615-0313\, ext. 245 (Kimi) or ext. 237 (Pam).  Thank you for your support!
URL:https://willowplaceshelter.ca/event/annual-power-of-pjs-campaign/
CATEGORIES:Fundraising,special occasion
END:VEVENT
END:VCALENDAR