BEGIN:VCALENDAR
VERSION:2.0
PRODID:-//Willow Place - ECPv6.15.20//NONSGML v1.0//EN
CALSCALE:GREGORIAN
METHOD:PUBLISH
X-WR-CALNAME:Willow Place
X-ORIGINAL-URL:https://willowplaceshelter.ca
X-WR-CALDESC:Events for Willow Place
REFRESH-INTERVAL;VALUE=DURATION:PT1H
X-Robots-Tag:noindex
X-PUBLISHED-TTL:PT1H
BEGIN:VTIMEZONE
TZID:America/Phoenix
BEGIN:STANDARD
TZOFFSETFROM:-0700
TZOFFSETTO:-0700
TZNAME:MST
DTSTART:20200101T000000
END:STANDARD
END:VTIMEZONE
BEGIN:VEVENT
DTSTART;VALUE=DATE:20210819
DTEND;VALUE=DATE:20210901
DTSTAMP:20260422T203901
CREATED:20210811T162039Z
LAST-MODIFIED:20210816T160934Z
UID:2354-1629331200-1630454399@willowplaceshelter.ca
SUMMARY:Manitoba Underground Opera Fundraiser
DESCRIPTION:  \nA Place of Healing – visual album in support of Willow Place. \nOperatic performances and interviews with women who have experienced family violence and abuse\, and who support family violence prevention in Manitoba. \nFor tickets and information:https://manitobaundergroundopera.com/box-office-1/ols/products/a-place-of-healing \n  \n 
URL:https://willowplaceshelter.ca/event/manitoba-underground-opera-fundraiser/
LOCATION:Manitoba
ATTACH;FMTTYPE=image/jpeg:https://willowplaceshelter.ca/wp-content/uploads/2021/08/A-Place-of-Healing_MUO-crop-scaled.jpg
END:VEVENT
BEGIN:VEVENT
DTSTART;VALUE=DATE:20210801
DTEND;VALUE=DATE:20210901
DTSTAMP:20260422T203901
CREATED:20210621T202138Z
LAST-MODIFIED:20210811T163255Z
UID:2329-1627776000-1630454399@willowplaceshelter.ca
SUMMARY:Challenge for Shelter - Royal LePage Purcell Mountain Trek
DESCRIPTION:Winnipeg Royal LePage real estate agents Alix McIntyre and Chris Pennycook are participating in the Royal LePage Challenge for Shelter this August\, and will be trekking through British Columbia’s Purcell Mountains to raise funds and awareness for Willow Place’s family violence shelter program.  Visit fundraising pages for these intrepid supporters of Willow Place: \n \nAlix McIntyre https://royallepage.myetap.org/fundraiser/purcell/individual.do?participationRef=1185.0.2325457503 \nChris Pennycook https://royallepage.myetap.org/fundraiser/purcell/individual.do?participationRef=1185.0.2340434181
URL:https://willowplaceshelter.ca/event/challenge-for-shelter-royal-lepage-purcell-mountain-trek/
LOCATION:Manitoba
ATTACH;FMTTYPE=image/jpeg:https://willowplaceshelter.ca/wp-content/uploads/2021/06/Purcell-Trek-2021-1.jpg
END:VEVENT
BEGIN:VEVENT
DTSTART;VALUE=DATE:20210701
DTEND;VALUE=DATE:20210702
DTSTAMP:20260422T203901
CREATED:20210618T175528Z
LAST-MODIFIED:20210618T175621Z
UID:2316-1625097600-1625183999@willowplaceshelter.ca
SUMMARY:Canada Day - July 01\, 2021
DESCRIPTION:Happy Canada wishes from all of us at Willow Place – we hope you and your loved ones remain safe and well.\nPlease ensure you are up to date on coronavirus health restrictions for your region.
URL:https://willowplaceshelter.ca/event/canada-day-july-01-2021/
LOCATION:Manitoba
CATEGORIES:holiday,special occasion
END:VEVENT
BEGIN:VEVENT
DTSTART;VALUE=DATE:20210621
DTEND;VALUE=DATE:20210622
DTSTAMP:20260422T203901
CREATED:20210618T143601Z
LAST-MODIFIED:20210618T143741Z
UID:2279-1624233600-1624319999@willowplaceshelter.ca
SUMMARY:Indigenous Peoples' Day - June 21
DESCRIPTION:Join Willow Place in acknowledging\, honouring and celebrating the valuable contributions and cultural wisdom\nof diverse Indigenous Peoples of Canada. Willow Place acknowledges that we are located within Treaty No. 1 Territory\, and on the traditional lands of the Anishinabe (Ojibway)\, Ininew (Cree)\, Oji-Cree\, Dene\, and Dakota peoples; the birthplace of the Metis Nation\, and the heart of the Metis Nation Homeland.
URL:https://willowplaceshelter.ca/event/indigenous-peoples-day-june-21/
LOCATION:Manitoba
END:VEVENT
BEGIN:VEVENT
DTSTART;VALUE=DATE:20210620
DTEND;VALUE=DATE:20210621
DTSTAMP:20260422T203901
CREATED:20210618T145221Z
LAST-MODIFIED:20210618T145327Z
UID:2291-1624147200-1624233599@willowplaceshelter.ca
SUMMARY:Happy Father's Day - June 20\, 2021
DESCRIPTION:Father’s Day in Canada is celebrated on the third Sunday of June\, and is a day to acknowledge and appreciate fathers\, grandfathers and father figures in our families and in the community. Willow Place would like to express our appreciation for the caring fathers in our community and we wish each of you a very happy Father’s Day 2021!
URL:https://willowplaceshelter.ca/event/happy-fathers-day-june-20-2021/
LOCATION:Manitoba
END:VEVENT
BEGIN:VEVENT
DTSTART;VALUE=DATE:20210601
DTEND;VALUE=DATE:20210701
DTSTAMP:20260422T203901
CREATED:20210618T144557Z
LAST-MODIFIED:20210618T144557Z
UID:2286-1622505600-1625097599@willowplaceshelter.ca
SUMMARY:Pride Month - June 2021
DESCRIPTION:Willow Place provides inclusive\, no-cost supports for diverse family violence prevention needs in Manitoba and is a proud member of the Manitoba LGBT Chamber of Commerce and RainbowConnect Canada. Join Willow Place in embracing diversity as strength in our community and our nation during Pride Month\, June 2021\, and check out the various digital events and activities through Pride Manitoba.
URL:https://willowplaceshelter.ca/event/pride-month-june-2021/
LOCATION:Manitoba
END:VEVENT
BEGIN:VEVENT
DTSTART;TZID=America/Phoenix:20210301T080000
DTEND;TZID=America/Phoenix:20210331T170000
DTSTAMP:20260422T203901
CREATED:20210301T164143Z
LAST-MODIFIED:20210618T142735Z
UID:1911-1614585600-1617210000@willowplaceshelter.ca
SUMMARY:Hockey Helps the Homeless
DESCRIPTION:THANK YOU Hockey Helps the Homeless (HHTH) National Team and Winnipeg HHTH Event Committee\, and all supporters and donors. Your contributions made the virtual Canada Life Cup fundraiser possible\, and has resulted in $30\,000 in support for each of the following beneficiaries: Willow Place\, Red Road Lodge\, and Resource Assistance for Youth (rAy).
URL:https://willowplaceshelter.ca/event/hockey_helps_the_homeless/
LOCATION:Manitoba
ATTACH;FMTTYPE=image/jpeg:https://willowplaceshelter.ca/wp-content/uploads/2021/05/2020-HHTH_canadalife-ThankYou.jpg
END:VEVENT
END:VCALENDAR