BEGIN:VCALENDAR
VERSION:2.0
PRODID:-//Willow Place - ECPv6.15.20//NONSGML v1.0//EN
CALSCALE:GREGORIAN
METHOD:PUBLISH
X-WR-CALNAME:Willow Place
X-ORIGINAL-URL:https://willowplaceshelter.ca
X-WR-CALDESC:Events for Willow Place
REFRESH-INTERVAL;VALUE=DURATION:PT1H
X-Robots-Tag:noindex
X-PUBLISHED-TTL:PT1H
BEGIN:VTIMEZONE
TZID:America/Phoenix
BEGIN:STANDARD
TZOFFSETFROM:-0700
TZOFFSETTO:-0700
TZNAME:MST
DTSTART:20200101T000000
END:STANDARD
END:VTIMEZONE
BEGIN:VEVENT
DTSTART;TZID=America/Phoenix:20220827T090000
DTEND;TZID=America/Phoenix:20220827T170000
DTSTAMP:20260422T145732
CREATED:20220602T184136Z
LAST-MODIFIED:20220602T184325Z
UID:2502-1661590800-1661619600@willowplaceshelter.ca
SUMMARY:Cycling Fundraiser
DESCRIPTION:Cycle\, volunteer\, sponsor!  Join us to raise funds for Willow Place and other homelessness-serving organizations in Manitoba!
URL:https://willowplaceshelter.ca/event/cycling-fundraiser/
LOCATION:Kildonan Park\, Winnipeg\, 2015 Main Street\, Winnipeg\, Manitoba\, R2V 2B9\, Canada
ATTACH;FMTTYPE=image/png:https://willowplaceshelter.ca/wp-content/uploads/2022/06/Brothers-of-the-Fork-2022_Ride-4.png
END:VEVENT
BEGIN:VEVENT
DTSTART;VALUE=DATE:20220308
DTEND;VALUE=DATE:20220309
DTSTAMP:20260422T145732
CREATED:20220304T173938Z
LAST-MODIFIED:20220304T174023Z
UID:2459-1646697600-1646783999@willowplaceshelter.ca
SUMMARY:International Women's Day 2022
DESCRIPTION:March 8\, 2022 is International Women’s Day. Let’s imagine a gender equal world. A world free of bias\, stereotypes\, and discrimination. Every person can make a difference toward a better future!
URL:https://willowplaceshelter.ca/event/international-womens-day-2022/
END:VEVENT
BEGIN:VEVENT
DTSTART;VALUE=DATE:20211203
DTEND;VALUE=DATE:20211204
DTSTAMP:20260422T145732
CREATED:20210915T163605Z
LAST-MODIFIED:20210915T163605Z
UID:2388-1638489600-1638575999@willowplaceshelter.ca
SUMMARY:Hockey Helps the Homeless - 2nd Annual Dream Tournament
DESCRIPTION:Willow Place is excited to be part of a third year of fundraising support and the 2nd Annual HOCKEY HELPS THE HOMELESS tournament. Players get to skate alongside their hockey heroes and will raise funds for homelessness-serving agencies in Manitoba including Willow Place\, Red Road Lodge\, and Resource Assistance for youth. \nParticipate as a volunteer\, spectator\, player or sponsor! \nFor info: CLICK HERE: HOCKEY HELPS THE HOMELESS
URL:https://willowplaceshelter.ca/event/hockey-helps-the-homeless-2nd-annual-dream-tournament/
LOCATION:Seven Oaks Arena\, 745 Kingsbury Avenue\, Winnipeg\, Manitoba\, R2V 3H9\, Canada
ATTACH;FMTTYPE=image/jpeg:https://willowplaceshelter.ca/wp-content/uploads/2021/09/HHTH-dec3-2021.jpg
END:VEVENT
BEGIN:VEVENT
DTSTART;VALUE=DATE:20211118
DTEND;VALUE=DATE:20211130
DTSTAMP:20260422T145732
CREATED:20211118T185236Z
LAST-MODIFIED:20211118T185339Z
UID:2416-1637193600-1638230399@willowplaceshelter.ca
SUMMARY:Giving Tuesday - Help Willow Place!
DESCRIPTION:Between November 18 and November 29\, 2021\, individuals can fill in a quick ballot to enter Willow Place in a $5\,000 prize draw.\n$5\,000 can fund trauma-informed yoga programming for women and children for one year!\nFor info and to submit your entry ballot:\nGIVING TUESDAY ENTRY – CLICK HERE!
URL:https://willowplaceshelter.ca/event/giving-tuesday-help-willow-place/
ATTACH;FMTTYPE=image/png:https://willowplaceshelter.ca/wp-content/uploads/2021/11/GivingTues-Instagram-Cards_6.png
END:VEVENT
BEGIN:VEVENT
DTSTART;VALUE=DATE:20211101
DTEND;VALUE=DATE:20211201
DTSTAMP:20260422T145732
CREATED:20211102T144944Z
LAST-MODIFIED:20211102T145522Z
UID:2406-1635724800-1638316799@willowplaceshelter.ca
SUMMARY:Domestic Violence Awareness Month
DESCRIPTION:November is Domestic Violence Awareness Month in Manitoba – Willow Place is collecting new pajamas throughout November for women and children in our family violence shelter program. For info and to arrange a drop-off: 204-615-0313\, ext. 237
URL:https://willowplaceshelter.ca/event/domestic-violence-awareness-month/
ATTACH;FMTTYPE=image/jpeg:https://willowplaceshelter.ca/wp-content/uploads/2021/11/Power-of-PJs-2020-1.jpg
END:VEVENT
BEGIN:VEVENT
DTSTART;VALUE=DATE:20210930
DTEND;VALUE=DATE:20211001
DTSTAMP:20260422T145732
CREATED:20210812T142817Z
LAST-MODIFIED:20210915T164034Z
UID:2361-1632960000-1633046399@willowplaceshelter.ca
SUMMARY:National Day for Truth and Reconciliation
DESCRIPTION:Willow Place recognizes and commemorates the impact of residential schools on Canada’s First Peoples. 60-80% of those supported through Willow Place family violence prevention programs are Indigenous. \nFor info:\nCLICK HERE: TRUTH AND RECONCILIATION DAY
URL:https://willowplaceshelter.ca/event/national-day-for-truth-and-reconciliation/
ATTACH;FMTTYPE=image/jpeg:https://willowplaceshelter.ca/wp-content/uploads/2021/08/pexels-johannes-plenio-1118871-scaled.jpg
END:VEVENT
BEGIN:VEVENT
DTSTART;VALUE=DATE:20210911
DTEND;VALUE=DATE:20210912
DTSTAMP:20260422T145732
CREATED:20210915T162921Z
LAST-MODIFIED:20210915T162921Z
UID:2385-1631318400-1631404799@willowplaceshelter.ca
SUMMARY:Put the Brakes on Homelessness
DESCRIPTION:Winnipeg cycling club\, Brothers of the Fork\, and Hockey Helps the Homeless are coming together to raise funds for homelessness-serving agencies in Winnipeg: Resource Assistance for Youth (rAy)\, Willow Place and Red Road Lodge. Riders are collecting pledges with a goal to raise $10\,000. \nFor info\, registration or to donate: \nCLICK HERE: PUT THE BRAKES ON HOMELESSNESS
URL:https://willowplaceshelter.ca/event/put-the-brakes-on-homelessness/
ATTACH;FMTTYPE=image/jpeg:https://willowplaceshelter.ca/wp-content/uploads/2021/09/2021-RFB-SocialMedia-July22.jpg
END:VEVENT
BEGIN:VEVENT
DTSTART;TZID=America/Phoenix:20210827T190000
DTEND;TZID=America/Phoenix:20210827T220000
DTSTAMP:20260422T145732
CREATED:20210811T163156Z
LAST-MODIFIED:20210811T163156Z
UID:2356-1630090800-1630101600@willowplaceshelter.ca
SUMMARY:Woodwork - A Rock August Night Fundraiser
DESCRIPTION:Performances by local rock band\, Woodwork\, with special guests the Black Lights. \nLocation: XCues\, 551 Sargent Avenue\, Winnipeg. \nA portion of ticket sales and commemorative poster sales will be donated to Willow Place. \n 
URL:https://willowplaceshelter.ca/event/woodwork-a-rock-august-night-fundraiser/
ATTACH;FMTTYPE=image/jpeg:https://willowplaceshelter.ca/wp-content/uploads/2021/08/woodwork-Aug21.jpg
END:VEVENT
BEGIN:VEVENT
DTSTART;VALUE=DATE:20210819
DTEND;VALUE=DATE:20210901
DTSTAMP:20260422T145732
CREATED:20210811T162039Z
LAST-MODIFIED:20210816T160934Z
UID:2354-1629331200-1630454399@willowplaceshelter.ca
SUMMARY:Manitoba Underground Opera Fundraiser
DESCRIPTION:  \nA Place of Healing – visual album in support of Willow Place. \nOperatic performances and interviews with women who have experienced family violence and abuse\, and who support family violence prevention in Manitoba. \nFor tickets and information:https://manitobaundergroundopera.com/box-office-1/ols/products/a-place-of-healing \n  \n 
URL:https://willowplaceshelter.ca/event/manitoba-underground-opera-fundraiser/
ATTACH;FMTTYPE=image/jpeg:https://willowplaceshelter.ca/wp-content/uploads/2021/08/A-Place-of-Healing_MUO-crop-scaled.jpg
END:VEVENT
BEGIN:VEVENT
DTSTART;VALUE=DATE:20210801
DTEND;VALUE=DATE:20210901
DTSTAMP:20260422T145732
CREATED:20210621T202138Z
LAST-MODIFIED:20210811T163255Z
UID:2329-1627776000-1630454399@willowplaceshelter.ca
SUMMARY:Challenge for Shelter - Royal LePage Purcell Mountain Trek
DESCRIPTION:Winnipeg Royal LePage real estate agents Alix McIntyre and Chris Pennycook are participating in the Royal LePage Challenge for Shelter this August\, and will be trekking through British Columbia’s Purcell Mountains to raise funds and awareness for Willow Place’s family violence shelter program.  Visit fundraising pages for these intrepid supporters of Willow Place: \n \nAlix McIntyre https://royallepage.myetap.org/fundraiser/purcell/individual.do?participationRef=1185.0.2325457503 \nChris Pennycook https://royallepage.myetap.org/fundraiser/purcell/individual.do?participationRef=1185.0.2340434181
URL:https://willowplaceshelter.ca/event/challenge-for-shelter-royal-lepage-purcell-mountain-trek/
ATTACH;FMTTYPE=image/jpeg:https://willowplaceshelter.ca/wp-content/uploads/2021/06/Purcell-Trek-2021-1.jpg
END:VEVENT
BEGIN:VEVENT
DTSTART;VALUE=DATE:20210701
DTEND;VALUE=DATE:20210702
DTSTAMP:20260422T145732
CREATED:20210618T175528Z
LAST-MODIFIED:20210618T175621Z
UID:2316-1625097600-1625183999@willowplaceshelter.ca
SUMMARY:Canada Day - July 01\, 2021
DESCRIPTION:Happy Canada wishes from all of us at Willow Place – we hope you and your loved ones remain safe and well.\nPlease ensure you are up to date on coronavirus health restrictions for your region.
URL:https://willowplaceshelter.ca/event/canada-day-july-01-2021/
CATEGORIES:holiday,special occasion
END:VEVENT
BEGIN:VEVENT
DTSTART;VALUE=DATE:20210621
DTEND;VALUE=DATE:20210622
DTSTAMP:20260422T145732
CREATED:20210618T143601Z
LAST-MODIFIED:20210618T143741Z
UID:2279-1624233600-1624319999@willowplaceshelter.ca
SUMMARY:Indigenous Peoples' Day - June 21
DESCRIPTION:Join Willow Place in acknowledging\, honouring and celebrating the valuable contributions and cultural wisdom\nof diverse Indigenous Peoples of Canada. Willow Place acknowledges that we are located within Treaty No. 1 Territory\, and on the traditional lands of the Anishinabe (Ojibway)\, Ininew (Cree)\, Oji-Cree\, Dene\, and Dakota peoples; the birthplace of the Metis Nation\, and the heart of the Metis Nation Homeland.
URL:https://willowplaceshelter.ca/event/indigenous-peoples-day-june-21/
END:VEVENT
BEGIN:VEVENT
DTSTART;VALUE=DATE:20210620
DTEND;VALUE=DATE:20210621
DTSTAMP:20260422T145732
CREATED:20210618T145221Z
LAST-MODIFIED:20210618T145327Z
UID:2291-1624147200-1624233599@willowplaceshelter.ca
SUMMARY:Happy Father's Day - June 20\, 2021
DESCRIPTION:Father’s Day in Canada is celebrated on the third Sunday of June\, and is a day to acknowledge and appreciate fathers\, grandfathers and father figures in our families and in the community. Willow Place would like to express our appreciation for the caring fathers in our community and we wish each of you a very happy Father’s Day 2021!
URL:https://willowplaceshelter.ca/event/happy-fathers-day-june-20-2021/
END:VEVENT
BEGIN:VEVENT
DTSTART;VALUE=DATE:20210601
DTEND;VALUE=DATE:20210701
DTSTAMP:20260422T145732
CREATED:20210618T144557Z
LAST-MODIFIED:20210618T144557Z
UID:2286-1622505600-1625097599@willowplaceshelter.ca
SUMMARY:Pride Month - June 2021
DESCRIPTION:Willow Place provides inclusive\, no-cost supports for diverse family violence prevention needs in Manitoba and is a proud member of the Manitoba LGBT Chamber of Commerce and RainbowConnect Canada. Join Willow Place in embracing diversity as strength in our community and our nation during Pride Month\, June 2021\, and check out the various digital events and activities through Pride Manitoba.
URL:https://willowplaceshelter.ca/event/pride-month-june-2021/
END:VEVENT
BEGIN:VEVENT
DTSTART;TZID=America/Phoenix:20210301T080000
DTEND;TZID=America/Phoenix:20210331T170000
DTSTAMP:20260422T145732
CREATED:20210301T164143Z
LAST-MODIFIED:20210618T142735Z
UID:1911-1614585600-1617210000@willowplaceshelter.ca
SUMMARY:Hockey Helps the Homeless
DESCRIPTION:THANK YOU Hockey Helps the Homeless (HHTH) National Team and Winnipeg HHTH Event Committee\, and all supporters and donors. Your contributions made the virtual Canada Life Cup fundraiser possible\, and has resulted in $30\,000 in support for each of the following beneficiaries: Willow Place\, Red Road Lodge\, and Resource Assistance for Youth (rAy).
URL:https://willowplaceshelter.ca/event/hockey_helps_the_homeless/
ATTACH;FMTTYPE=image/jpeg:https://willowplaceshelter.ca/wp-content/uploads/2021/05/2020-HHTH_canadalife-ThankYou.jpg
END:VEVENT
END:VCALENDAR