BEGIN:VCALENDAR
VERSION:2.0
PRODID:-//Willow Place - ECPv6.15.20//NONSGML v1.0//EN
CALSCALE:GREGORIAN
METHOD:PUBLISH
X-WR-CALNAME:Willow Place
X-ORIGINAL-URL:https://willowplaceshelter.ca
X-WR-CALDESC:Events for Willow Place
REFRESH-INTERVAL;VALUE=DURATION:PT1H
X-Robots-Tag:noindex
X-PUBLISHED-TTL:PT1H
BEGIN:VTIMEZONE
TZID:America/Phoenix
BEGIN:STANDARD
TZOFFSETFROM:-0700
TZOFFSETTO:-0700
TZNAME:MST
DTSTART:20240101T000000
END:STANDARD
END:VTIMEZONE
BEGIN:VEVENT
DTSTART;VALUE=DATE:20250106
DTEND;VALUE=DATE:20250623
DTSTAMP:20260422T150038
CREATED:20250116T190639Z
LAST-MODIFIED:20250116T190913Z
UID:3250-1736121600-1750636799@willowplaceshelter.ca
SUMMARY:KIN KAR Raffle and 50/50
DESCRIPTION:Win a $60\,000 car voucher or $40\,000 cash! Includes 50/50 bonus draw (separate purchase).\nSales begin on January 6\, 2025 and end on June 22\, 2025.\nSelect Willow Place when purchasing\, and a portion of ticket proceeds will be donated to us.  Thank you to Winnipeg Kinsmen and to all who purchase raffle and 50/50 tickets – we are very grateful for your generous support! \n 
URL:https://willowplaceshelter.ca/event/kin-kar-raffle-and-50-50/
CATEGORIES:Fundraising
ATTACH;FMTTYPE=image/jpeg:https://willowplaceshelter.ca/wp-content/uploads/2025/01/kinkar-2025-1.jpg
END:VEVENT
BEGIN:VEVENT
DTSTART;VALUE=DATE:20250308
DTEND;VALUE=DATE:20250309
DTSTAMP:20260422T150038
CREATED:20250225T144957Z
LAST-MODIFIED:20250225T145339Z
UID:3306-1741392000-1741478399@willowplaceshelter.ca
SUMMARY:International Women's Day 2025
DESCRIPTION:International Women’s Day (IWD) occurs March 8 and is a global observance to draw attention to the achievements of women and also to raise awareness of human rights violations against women.  This year’s theme is Accelerate Action. Check out the event link to view over 300 events from around the world\, many of which are virtual. \nWomen’s rights are human rights\, and it is important for each of us to work together to address misogyny\, inequity and violence against women. \nhttps://willowplaceshelter.ca/wp-content/uploads/2025/02/IWD-2025_AccelerateAction_V6-1.mp4
URL:https://willowplaceshelter.ca/event/international-womens-day-2025/
CATEGORIES:special occasion
ATTACH;FMTTYPE=image/jpeg:https://willowplaceshelter.ca/wp-content/uploads/2025/02/IWD-2025_AccelerateAction_V1-2.jpg
END:VEVENT
BEGIN:VEVENT
DTSTART;VALUE=DATE:20250930
DTEND;VALUE=DATE:20251001
DTSTAMP:20260422T150038
CREATED:20250902T140545Z
LAST-MODIFIED:20250902T140545Z
UID:3496-1759190400-1759276799@willowplaceshelter.ca
SUMMARY:Orange Shirt Day 2025
DESCRIPTION:https://willowplaceshelter.ca/wp-content/uploads/2025/09/About-Brooklyn_OrangeShirtDay-2025.mp4\nWillow Place is honoured to partner with celebrated Indigenous artist\, Brooklyn Rudolph for Orange Shirt Day 2025.\nWalmart selected Brooklyn as their artist of the year for Orange Shirt Day\, and Brooklyn obtained a grant to supply her designed t-shirts for Willow Place shelter residents and staff\, as well as homeless Indigenous persons in the Winnipeg area. Chii megwetch\, Brooklyn!   We hope you will join Willow Place in observing Orange Shirt Day as we move forward in truth and reconciliation.\nWear orange\, attend local events\, donate to Indigenous-led and Indigenous-serving organizations – thank you!
URL:https://willowplaceshelter.ca/event/orange-shirt-day-2025/
CATEGORIES:special occasion
END:VEVENT
BEGIN:VEVENT
DTSTART;VALUE=DATE:20251101
DTEND;VALUE=DATE:20251201
DTSTAMP:20260422T150038
CREATED:20251105T202134Z
LAST-MODIFIED:20251105T202624Z
UID:3600-1761955200-1764547199@willowplaceshelter.ca
SUMMARY:Annual Power of PJs Campaign
DESCRIPTION:Every November (Domestic Violence Awareness Month)\, Willow Place collects new pajamas for women and children in our violence prevention shelter program. Our goal is to collect 250 pairs of PJs\, representing the numbers we will serve from November to January.  To donate\, call 204-615-0313\, ext. 245 (Kimi) or ext. 237 (Pam).  Thank you for your support!
URL:https://willowplaceshelter.ca/event/annual-power-of-pjs-campaign/
CATEGORIES:Fundraising,special occasion
END:VEVENT
BEGIN:VEVENT
DTSTART;TZID=America/Phoenix:20251122T180000
DTEND;TZID=America/Phoenix:20251122T230000
DTSTAMP:20260422T150038
CREATED:20251103T185834Z
LAST-MODIFIED:20251103T185834Z
UID:3560-1763834400-1763852400@willowplaceshelter.ca
SUMMARY:Women Helping Women Fundraiser
DESCRIPTION:Great music for a great cause! Willow Place is happy to be a beneficiary of this Women Helping Women event.
URL:https://willowplaceshelter.ca/event/women-helping-women-fundraiser/
LOCATION:Westwood Village Inn+\, 477 Westwood Drive\, Winnipeg\, Manitoba\, R3K 1G5\, Canada
CATEGORIES:Fundraising,special occasion
END:VEVENT
BEGIN:VEVENT
DTSTART;VALUE=DATE:20251125
DTEND;VALUE=DATE:20251211
DTSTAMP:20260422T150038
CREATED:20250902T180428Z
LAST-MODIFIED:20250902T180428Z
UID:3499-1764028800-1765411199@willowplaceshelter.ca
SUMMARY:16 Days of Activism 2025 - Unite to End Digital Violence
DESCRIPTION:16 Days of Activism is an annual observance initiated by the United Nations to drawn attention to violence against women and girls and to help nations move toward non-violence and gender equity.  The theme for 2025 is Unite to End Digital Violence\, including online and offline violence. \n \nLearn more by visiting the UN’s 16 Days of Activism website. Wear orange to show your support during the 16 Days of Activism\, and share information with your networks. \n 
URL:https://willowplaceshelter.ca/event/16-days-of-activism-2025-unite-to-end-digital-violence/
CATEGORIES:special occasion
END:VEVENT
BEGIN:VEVENT
DTSTART;TZID=America/Phoenix:20251205T070000
DTEND;TZID=America/Phoenix:20251205T170000
DTSTAMP:20260422T150038
CREATED:20251103T190304Z
LAST-MODIFIED:20251103T190304Z
UID:3565-1764918000-1764954000@willowplaceshelter.ca
SUMMARY:6th Annual Hockey Helps the Homeless Fundraiser
DESCRIPTION:https://willowplaceshelter.ca/wp-content/uploads/2025/11/HHTH-graphic-2025-V2.mp4
URL:https://willowplaceshelter.ca/event/6th-annual-hockey-helps-the-homeless-fundraiser/
LOCATION:Seven Oaks Arena\, 745 Kingsbury Avenue\, Winnipeg\, Manitoba\, R2V 3H9\, Canada
CATEGORIES:Fundraising,special occasion
END:VEVENT
BEGIN:VEVENT
DTSTART;VALUE=DATE:20260105
DTEND;VALUE=DATE:20260622
DTSTAMP:20260422T150038
CREATED:20260108T160028Z
LAST-MODIFIED:20260108T160028Z
UID:3649-1767571200-1782086399@willowplaceshelter.ca
SUMMARY:2026 KIN KAR and 50-50 Raffle
DESCRIPTION:When tickets are purchased for the KIN KAR or 50-50 raffle\, if Willow Place is selected from the charity listing\, a portion of ticket sales proceeds will go to Willow Place.\nThank you for your support!
URL:https://willowplaceshelter.ca/event/2026-kin-kar-and-50-50-raffle/
CATEGORIES:Fundraising
END:VEVENT
BEGIN:VEVENT
DTSTART;VALUE=DATE:20260308
DTEND;VALUE=DATE:20260309
DTSTAMP:20260422T150038
CREATED:20260210T202329Z
LAST-MODIFIED:20260210T202329Z
UID:3685-1772928000-1773014399@willowplaceshelter.ca
SUMMARY:March 8 - International Women's Day
DESCRIPTION:Every year on March 8\, International Women’s Day (IWD) is recognized and celebrated around the world. IWD is more than an event\, it is a movement that began in 1911\, in recognition of the need for gender equality. Globally\, violence against women is the most significant human rights issue\, and the theme of IWD 2026 is GIVE TO GAIN. Giving to women’s equality can be in a number of ways: donating to organizations that serve women\, reducing barriers for women in the workplace and in society\, recognizing and celebrating the contributions of women\, ensuring that safety and respect are universally and consistently maintained\, giving women rights and freedoms related to their health and bodies\, and much more. Learn more by visiting the IWD website \nWhere women are supported to thrive\, everyone benefits!
URL:https://willowplaceshelter.ca/event/march-8-international-womens-day/
CATEGORIES:Fundraising,special occasion
END:VEVENT
BEGIN:VEVENT
DTSTART;TZID=America/Phoenix:20260531T164500
DTEND;TZID=America/Phoenix:20260531T200000
DTSTAMP:20260422T150038
CREATED:20260209T211119Z
LAST-MODIFIED:20260305T214500Z
UID:3676-1780245900-1780257600@willowplaceshelter.ca
SUMMARY:Soup Sisters Winnipeg - Soup-Making Event
DESCRIPTION:Soup Sisters Winnipeg has supported Willow Place for over ten years. Currently they plan four soup-making events a year\, graciously supported by the Fairmont Hotel Winnipeg\, who provides professional kitchen and staff to assist with soup-making\, shops and partially prepares ingredients; and provides serving staff for the event. Each event produces five varieties of nutritious soup for Willow Place’s busy violence prevention shelter program. \nThe soup-making event includes appetizers and wine before the soup-making begins\, and also features short presentations by Soup Sisters\, Willow Place and the Fairmont Hotel. For soup-making\, the guests are divided into five teams\, each taking care of one soup recipe.  While the soups are simmering\, participants enjoy a light supper of soup\, salad\, bread and coffee/tea.  After dinner\, the participants package and label the soup for delivery to Willow Place’s shelter program. \nTickets are $72.00 each and to reserve your spot\, please contact Soup Sisters Winnipeg by emailing hzimmer55@gmail.com. This event is a fun team-building for employment and community groups\, and is a great outing for families and friends to connect in a fun way while helping those in need in the community. \nhttps://willowplaceshelter.ca/wp-content/uploads/2026/02/Soup-Sisters-Event-Promo-1.mp4
URL:https://willowplaceshelter.ca/event/soup-sisters-winnipeg-soup-making-event/
LOCATION:Fairmont Hotel Winnipeg\, 2 Lombard Place
CATEGORIES:Fundraising,special occasion
ORGANIZER;CN="Soup Sisters Winnipeg":MAILTO:hzimmer55@gmail.com
END:VEVENT
END:VCALENDAR