BEGIN:VCALENDAR
VERSION:2.0
PRODID:-//Willow Place - ECPv6.15.20//NONSGML v1.0//EN
CALSCALE:GREGORIAN
METHOD:PUBLISH
X-WR-CALNAME:Willow Place
X-ORIGINAL-URL:https://willowplaceshelter.ca
X-WR-CALDESC:Events for Willow Place
REFRESH-INTERVAL;VALUE=DURATION:PT1H
X-Robots-Tag:noindex
X-PUBLISHED-TTL:PT1H
BEGIN:VTIMEZONE
TZID:America/Phoenix
BEGIN:STANDARD
TZOFFSETFROM:-0700
TZOFFSETTO:-0700
TZNAME:MST
DTSTART:20230101T000000
END:STANDARD
END:VTIMEZONE
BEGIN:VEVENT
DTSTART;TZID=America/Phoenix:20241017T190000
DTEND;TZID=America/Phoenix:20241017T220000
DTSTAMP:20260422T054258
CREATED:20240730T150236Z
LAST-MODIFIED:20240925T142037Z
UID:3095-1729191600-1729202400@willowplaceshelter.ca
SUMMARY:Rock for Shelter
DESCRIPTION:https://willowplaceshelter.ca/wp-content/uploads/2024/07/Untitled-design.mp4
URL:https://willowplaceshelter.ca/event/rock-for-shelter/
LOCATION:The Park Theatre\, 698 Osborne Street\, Winnipeg\, Manitoba\, R3L 2B9
CATEGORIES:Fundraising,special occasion
ATTACH;FMTTYPE=image/jpeg:https://willowplaceshelter.ca/wp-content/uploads/2024/07/Rock-for-Shelter-poster-1-scaled.jpg
END:VEVENT
END:VCALENDAR